BEGIN:VCALENDAR
VERSION:2.0
PRODID:-//ADN - ECPv4.8.2//NONSGML v1.0//EN
CALSCALE:GREGORIAN
METHOD:PUBLISH
X-WR-CALNAME:ADN
X-ORIGINAL-URL:http://ademonice06.com
X-WR-CALDESC:Évènements pour ADN
BEGIN:VEVENT
DTSTART;TZID=Europe/Paris:20181206T090000
DTEND;TZID=Europe/Paris:20181206T183000
DTSTAMP:20260424T120529
CREATED:20181124T102546Z
LAST-MODIFIED:20181124T103434Z
UID:9047-1544086800-1544121000@ademonice06.com
SUMMARY:Frontière franco italienne : Étudier les récits de traversées.
DESCRIPTION:  \n \n  \n
URL:http://ademonice06.com/event/9024/
LOCATION:MSH Saint Jean d’Angely\, Salle Plate -Avenue des Diables bleus\, Nice\, 06300
CATEGORIES:AGENDA
END:VEVENT
END:VCALENDAR