BEGIN:VCALENDAR
VERSION:2.0
PRODID:-//ADN - ECPv4.8.2//NONSGML v1.0//EN
CALSCALE:GREGORIAN
METHOD:PUBLISH
X-WR-CALNAME:ADN
X-ORIGINAL-URL:http://ademonice06.com
X-WR-CALDESC:Évènements pour ADN
BEGIN:VEVENT
DTSTART;TZID=Europe/Paris:20181218T133000
DTEND;TZID=Europe/Paris:20181218T183000
DTSTAMP:20260424T185139
CREATED:20181125T195625Z
LAST-MODIFIED:20181125T195625Z
UID:9066-1545139800-1545157800@ademonice06.com
SUMMARY:« Altérité\, circulation et argent »
DESCRIPTION: L’argent\, qui est au cœur de nos relations sociales et environnementales\, a-t-il du cœur ? \n Première session\n13h30-14h30        Georges Schadron (PU en psychologie sociale\, LAPCOS)\nLes impacts de l’argent sur nos jugements\, notre qualité de vie\, notre bien être\, notre empathie (ou pas!)…\n14h30-15h30        Damien Bazin (MCU HDR en économie\, GREDEG)\nLe lien entre inégalités sociales et déséquilibres écologiques dans le contexte de la justice environnementale. \nSeconde session\n15h45-16h45        Pinar Selek (Chercheure\, sociologue\, URMIS)\nL’écologie sociale. Enjeux et impacts\n16h45-17h45        Thierry Long (MCU en psychologie morale\, STAPS\, LAPCOS)\nL’état des lieux actuel du monde !… et une prospective « d’un monde sans argent ». \n17h45-18h30        Synthèse et débats\nco-animée par Isabelle Milhabet\, PU en psychologie sociale de la santé et Laurent Cambon\, MCU en psychologie sociale (LAPCOS). \n  Salle 3B08 (SJA 2) \n  \n
URL:http://ademonice06.com/event/alterite-circulation-argent/
LOCATION:Campus de st Jean d’Angely\, 24 Avenue des Diables BleusBât. IAE\, salle 2B04 2eme étage\, Nice\, 06300
END:VEVENT
END:VCALENDAR