BEGIN:VCALENDAR
VERSION:2.0
PRODID:-//ADN - ECPv4.8.2//NONSGML v1.0//EN
CALSCALE:GREGORIAN
METHOD:PUBLISH
X-WR-CALNAME:ADN
X-ORIGINAL-URL:http://ademonice06.com
X-WR-CALDESC:Évènements pour ADN
BEGIN:VEVENT
DTSTART;TZID=Europe/Paris:20200210T130000
DTEND;TZID=Europe/Paris:20200210T170000
DTSTAMP:20260423T213013
CREATED:20200201T142230Z
LAST-MODIFIED:20200201T142238Z
UID:11235-1581339600-1581354000@ademonice06.com
SUMMARY:Appel à soutien aux 9 interpellé e s de l'action de la Société générale.
DESCRIPTION:Venez soutenir les 9 personnes  interpellées de l’action de la Société Générale de Nice avenue Jean Médecin.\nEn effet le 26 octobre 2019 a eu lieu une action de désobéissance civile contre cet établissement bancaire.\nL’objectif de cet évènement était de révéler le vrai visage de cette banque qui investit dans les énergies fossiles et pratique l’évasion fiscale.\nCette action consistait à recouvrir la façade de la banque d’un mélange de blanc de Meudon et de charbon.\nS’en sont suivies 10 interpellations (dont une mise hors de cause)\, 2 jours de garde à vue (dans les conditions que l’on connaît) et une quinzaine de perquisitions.\nCes 9 citoyens ont été poursuivis et passent en  jugement le 10 février 2020. \n
URL:http://ademonice06.com/event/appel-a-soutien-aux-9-interpelle-e-s-de-laction-de-societe-generale/
LOCATION:TGI de Nice\, Place du Palais \, Nice\, 06300
END:VEVENT
END:VCALENDAR