BEGIN:VCALENDAR
VERSION:2.0
PRODID:-//ADN - ECPv4.8.2//NONSGML v1.0//EN
CALSCALE:GREGORIAN
METHOD:PUBLISH
X-WR-CALNAME:ADN
X-ORIGINAL-URL:http://ademonice06.com
X-WR-CALDESC:Évènements pour ADN
BEGIN:VEVENT
DTSTART;TZID=Europe/Paris:20190222T183000
DTEND;TZID=Europe/Paris:20190222T210000
DTSTAMP:20260419T195540
CREATED:20190215T132635Z
LAST-MODIFIED:20190215T153032Z
UID:9302-1550860200-1550869200@ademonice06.com
SUMMARY:Le populisme de gauche .
DESCRIPTION: \n
URL:http://ademonice06.com/event/apres-lamiante-scandale-sanitaire-2/
LOCATION:Amphithéâtre Garibaldi Espace Associations\, 12 place Garibaldi Nice (Arrêt Tram - Parking théâtre)
CATEGORIES:AGENDA
END:VEVENT
END:VCALENDAR