BEGIN:VCALENDAR
VERSION:2.0
PRODID:-//ADN - ECPv4.8.2//NONSGML v1.0//EN
CALSCALE:GREGORIAN
METHOD:PUBLISH
X-WR-CALNAME:ADN
X-ORIGINAL-URL:http://ademonice06.com
X-WR-CALDESC:Évènements pour ADN
BEGIN:VEVENT
DTSTART;TZID=Europe/Paris:20190213T200000
DTEND;TZID=Europe/Paris:20190213T230000
DTSTAMP:20260419T161246
CREATED:20190121T181727Z
LAST-MODIFIED:20190121T181727Z
UID:9221-1550088000-1550098800@ademonice06.com
SUMMARY:"Armonia\, Franco et mon grand-père"\, de Xavier Ladjointe\, au Cinéma de Beaulieu
DESCRIPTION:Toutes les infos ici. Réservation conseillée – prix habituels. \n \n
URL:http://ademonice06.com/event/armonia-franco-grand-pere-de-xavier-ladjointe-cinema-de-beaulieu/
LOCATION:Cinéma de Beaulieu\, Avenue Albert 1er\, Beaulieu sur mer \, 06310
CATEGORIES:AGENDA,Cinéma
END:VEVENT
END:VCALENDAR