BEGIN:VCALENDAR
VERSION:2.0
PRODID:-//ADN - ECPv4.8.2//NONSGML v1.0//EN
CALSCALE:GREGORIAN
METHOD:PUBLISH
X-WR-CALNAME:ADN
X-ORIGINAL-URL:http://ademonice06.com
X-WR-CALDESC:Évènements pour ADN
BEGIN:VEVENT
DTSTART;VALUE=DATE:20181029
DTEND;VALUE=DATE:20181103
DTSTAMP:20260425T022921
CREATED:20180924T112301Z
LAST-MODIFIED:20180924T112301Z
UID:8477-1540771200-1541203199@ademonice06.com
SUMMARY:Assises De La Transition Écologique Et Citoyenne.
DESCRIPTION:« Les assises de la transition écologique et citoyenne » est un évènement unique dans les Alpes Maritimes.\n• Un événement indépendant\, gratuit et auto-financé\n• En partenariat avec l’université de Nice\n• 5 jours\n• 10 thématiques\n• 140 conférences\n• 40 « états de lieux »\n• 100 alternatives locales (06\, 83 & 04)\n• Une exposition de 100m2\n• L’édition d’un Guide de la Transition \n2 grandes conférences du soir :\n• Pablo Servigne : 29 octobre à 20h\nL’entraide\, l’autre loi de la jungle\n• Valérie Masson-Delmotte [GIEC]: Mercredi 31 octobre à 20h\nChangement climatique: état des lieux. \nOuverture prochaine des inscriptions !\nRestez connectés. \n
URL:http://ademonice06.com/event/assises-de-transition-ecologique-citoyenne/
LOCATION:Université de Saint Jean d’Angély\, Amphi 5\, Bâtiment IAE\, 24 av. des Diables Bleus\, Nice\, 06357\, France
END:VEVENT
END:VCALENDAR