BEGIN:VCALENDAR
VERSION:2.0
PRODID:-//ADN - ECPv4.8.2//NONSGML v1.0//EN
CALSCALE:GREGORIAN
METHOD:PUBLISH
X-WR-CALNAME:ADN
X-ORIGINAL-URL:http://ademonice06.com
X-WR-CALDESC:Évènements pour ADN
BEGIN:VEVENT
DTSTART;TZID=Europe/Paris:20181117T093000
DTEND;TZID=Europe/Paris:20181117T173000
DTSTAMP:20260424T104154
CREATED:20180928T140134Z
LAST-MODIFIED:20180928T140134Z
UID:8527-1542447000-1542475800@ademonice06.com
SUMMARY:Colloque "Frontières et droits de l'Homme".
DESCRIPTION:A l’occasion du 70e anniversaire de la Déclaration universelle des Droits de l’Homme » \nColloque organisé au lycée Masséna (salle René Cassin) à Nice\,\nle samedi 17 novembre 2018\, par la section de Nice de la Ligue des Droits de l’Homme\, le Syndicat de la Magistrature et le Syndicat des Avocats de France.\n\nEn 1948\, l’humanité est traumatisée par les crimes commis par l’État nazi et ses alliés\, par les horreurs de la Deuxième Guerre mondiale. La Déclaration universelle des Droits de l’Homme (DUDH) est proclamée le 10 décembre pour affirmer les droits fondamentaux et inaliénables de tous les êtres humains sur terre\, indépendamment de leur condition de ressortissant de tel ou tel État souverain. L’apport historique de la DUDH est la désignation de la personne humaine comme titulaire de ces droits\, proclamés sur un plan universel et reconnus par l’ensemble des États du Monde. L’être humain devient sujet autonome du droit international. \nL’objectif de ce colloque est faire le point\, 70 ans après\, sur la réalité des droits humains et de s’interroger en particulier sur les limites imposées par les frontières qui séparent les États. Les droits universels des êtres humains sont-ils vraiment respectés et dans quelle mesure sont-ils vraiment universels ? Faut-il se battre pour faire respecter la Déclaration de 1948 et/ou\, d’ores et déjà\, appeler à une nouvelle Déclaration vraiment universelle ? \nCe colloque sera l’occasion de confronter des analyses juridiques\, politiques\, historiques et sociologiques de la réalité des Droits de l’Homme vis-à-vis des frontières et sera ouvert à un large public. \nAvec les interventions prévues de Malik Salemkour\, Damien Simonneau\, Catherine De Wenden\, Camille Schmoll\, Jocelyne Streiff-Fénart et Mireille Damiano. Programme à confirmer prochainement… \n
URL:http://ademonice06.com/event/colloque-frontieres-droits-de-lhomme/
LOCATION:Lycee Masséna\, 2 Avenue Felix Faure\, Nice\, 06000
ORGANIZER;CN="LDH%20NICE":MAILTO:: liguenice+contact@gmail.com
END:VEVENT
END:VCALENDAR