BEGIN:VCALENDAR
VERSION:2.0
PRODID:-//ADN - ECPv4.8.2//NONSGML v1.0//EN
CALSCALE:GREGORIAN
METHOD:PUBLISH
X-WR-CALNAME:ADN
X-ORIGINAL-URL:http://ademonice06.com
X-WR-CALDESC:Évènements pour ADN
BEGIN:VEVENT
DTSTART;TZID=Europe/Paris:20200117T200000
DTEND;TZID=Europe/Paris:20200117T233000
DTSTAMP:20260424T051823
CREATED:20200117T124046Z
LAST-MODIFIED:20200117T124046Z
UID:11153-1579291200-1579303800@ademonice06.com
SUMMARY:Concert de soutien à la lutte contre la retraite à points.
DESCRIPTION:Concert de soutien à la lutte contre la retraite a points\npour plus de visisilité dans la lutte et alimenter la caisse de grève\nrecette à vot bon cœur au chapeau !\nLes groupes et artistes engagés avec nous :\n– Phonétik\n– Chinaski\n– Alexandre le merde\n– Juga \npour plus de visibilité dans la lutte et alimenter la caisse de grève à points organisé par la FSU 06\, Solidaires 06 et UD CGT 06. \n
URL:http://ademonice06.com/event/concert-de-soutien-a-lutte-contre-retraite-a-points/
LOCATION:Le Dian’s\, 6 rue St Vincent\, Vieux Nice\, 06300
END:VEVENT
END:VCALENDAR