BEGIN:VCALENDAR
VERSION:2.0
PRODID:-//ADN - ECPv4.8.2//NONSGML v1.0//EN
CALSCALE:GREGORIAN
METHOD:PUBLISH
X-WR-CALNAME:ADN
X-ORIGINAL-URL:http://ademonice06.com
X-WR-CALDESC:Évènements pour ADN
BEGIN:VEVENT
DTSTART;TZID=Europe/Paris:20190131T180000
DTEND;TZID=Europe/Paris:20190131T200000
DTSTAMP:20260419T233546
CREATED:20190128T195709Z
LAST-MODIFIED:20190128T195709Z
UID:9232-1548957600-1548964800@ademonice06.com
SUMMARY:Cycle d'émissions publiques Ligne16 .
DESCRIPTION:\n\nCycle d’émissions publiques Ligne16\n \nPublic· Organisé par Ligne16.net le média participatif   \n\n\n
URL:http://ademonice06.com/event/cycle-demissions-publiques-ligne16/
LOCATION:‘l’entrepont\, 89 route de Turin\, Nice\, 06300
CATEGORIES:AGENDA
END:VEVENT
END:VCALENDAR