BEGIN:VCALENDAR
VERSION:2.0
PRODID:-//ADN - ECPv4.8.2//NONSGML v1.0//EN
CALSCALE:GREGORIAN
METHOD:PUBLISH
X-WR-CALNAME:ADN
X-ORIGINAL-URL:http://ademonice06.com
X-WR-CALDESC:Évènements pour ADN
BEGIN:VEVENT
DTSTART;TZID=Europe/Paris:20181115T133000
DTEND;TZID=Europe/Paris:20181115T183000
DTSTAMP:20260425T113150
CREATED:20181115T062011Z
LAST-MODIFIED:20181115T072237Z
UID:8821-1542288600-1542306600@ademonice06.com
SUMMARY:Délit de Solidarité : procès contre Estrosi .
DESCRIPTION:Procès renvoyé : L’info vient de tomber\, mon procès en diffamation contre Estrosi prévu demain Jeudi 15 Novembre à 13h30 sera renvoyé à une date ultérieure… Le motif que l’on m’a donné c’est principalement l’attente du jugement de la cour de Cassation concernant mon procés pour Délit de Solidarité\nMerci pour toute cette mobilisation 🙏 Bien sur\, je vous tiendrais au courant de la prochaine date des réjouissances ! 😊Pierre Alain Mannoni\nLe 6 janvier 2017 le tribunal de Nice déclarait publiquement l’innocence de Pierre-Alain Mannoni suite à un 1er procés pour Délit de Solidarité. Quelques heures plus tard\, M. Estrosi écrivait sur sa page Facebook suivie par plus de 100.000 personnes les propos suivants : \n« Relaxé alors qu’il aidait des migrants à passer la frontière : une insulte au travail des forces de l’ordre qui mettent leur vie en danger pour protéger la nôtre ! (…) Pierre-Alain Mannoni\, Cédric Herrou\,… Ils sont tous coupables de faire entrer illégalement des individus sur notre territoire. Avec ces agissements\, ils favorisent le travail des passeurs. Ces actes sont une insulte au travail des forces de l’ordre qui mettent leur vie en danger pour protéger la nôtre. (…)\nCertains djihadistes se sont fait passer pour des migrants pour rentrer sur le territoire national. Comment ces individus qui viennent en aide aux migrants peuvent-ils nous certifier qu’ils n’ont pas fait rentrer de terroristes sur notre sol en violant la loi comme ils le font ?\nPar leur acte politique\, ils ont potentiellement mis en danger la sécurité des Français. C’est impardonnable ! »\nhttps://www.facebook.com/estrosi.christian/posts/10155157710035579 \nMessage de Pierre-Alain :\nJ’ai pris la décision de porter plainte pour diffamation afin de dissuader ceux qui attaquent publiquement les personnes solidaires et qui font les mêmes amalgames nauséabonds qu’à d’autres époques bien sombres de notre histoire. Bien qu’accusé de Délit de Solidarité il ne m’a jamais été reproché de passer une frontière\, j’ai apporté de l’aide à des jeunes femmes étrangères blessées sur le territoire Français. J’en suis à plus de 2 ans de procédure et ma relaxe en cassation devrait être prononcé le 12 décembre 2018.\nLe fait que M. Estrosi publie de fausses informations avec mon nom est une volonté de me nuire personnellement et de me jeter en pâture à la haine alors que je n’ai jamais tenu des propos publiques contre lui. C’est aussi une tentative d’intimider ceux pour qui la Fraternité a un sens.\nJ’ai porté plainte car c’est aussi une opportunité de faire condamner un élu qui aurait pu prendre des mesures pour sauver des vies mais qui a préféré incriminer des citoyens exemplaires et ne s’est jamais ému de tous ces exilés morts dans sa région. La responsabilité d’un élu local est d’autant plus grande car plutôt que de monter ses administrés les uns contre les autres\, il leur doit le respect et la possibilité de vivre ensemble en paix. \n
URL:http://ademonice06.com/event/delit-de-solidarite-proces-contre-estrosi/
LOCATION:TGI de Nice\, Place du Palais \, Nice\, 06300
CATEGORIES:AGENDA
END:VEVENT
END:VCALENDAR