BEGIN:VCALENDAR
VERSION:2.0
PRODID:-//ADN - ECPv4.8.2//NONSGML v1.0//EN
CALSCALE:GREGORIAN
METHOD:PUBLISH
X-WR-CALNAME:ADN
X-ORIGINAL-URL:http://ademonice06.com
X-WR-CALDESC:Évènements pour ADN
BEGIN:VEVENT
DTSTART;TZID=Europe/Paris:20190309T173000
DTEND;TZID=Europe/Paris:20190309T230000
DTSTAMP:20260419T220445
CREATED:20190308T112406Z
LAST-MODIFIED:20190308T132932Z
UID:9573-1552152600-1552172400@ademonice06.com
SUMMARY:Expo "Europe ouvre toi" à Cenne-Monesties!
DESCRIPTION:EXPO / REPORTAGE Samedi 9 MARS\nau Bar Le Communal de Cenne-Monestiès\n6 euros Adulte (3 euros pour les enfants) végétarien 4 euros\nNous finirons la soirée en musique\ninfos au 04 68 94 00 35 ou barassociatif.le.communal@gmail.com\nAmenez vos couverts et les desserts à partager sont les bienvenus…….. \n \n
URL:http://ademonice06.com/event/expo-europe-ouvre-toi/
LOCATION:Bar associatif « Le Communal »\, Cenne-Monesties"\, 11170
END:VEVENT
END:VCALENDAR