BEGIN:VCALENDAR
VERSION:2.0
PRODID:-//ADN - ECPv4.8.2//NONSGML v1.0//EN
CALSCALE:GREGORIAN
METHOD:PUBLISH
X-WR-CALNAME:ADN
X-ORIGINAL-URL:http://ademonice06.com
X-WR-CALDESC:Évènements pour ADN
BEGIN:VEVENT
DTSTART;TZID=Europe/Paris:20181118T100000
DTEND;TZID=Europe/Paris:20181118T120000
DTSTAMP:20260424T101353
CREATED:20181103T160240Z
LAST-MODIFIED:20181103T162957Z
UID:8720-1542535200-1542542400@ademonice06.com
SUMMARY:Grafiteria : marché libre à Mouans Sartoux.
DESCRIPTION:Marché gratuit Entrée libre GRATIFERIA – place de la Maire\,\nBuvette partagée\nJusqu’à 9h30 possibilité de déposer en voiture les objets à donner devant la gratiferia\, \n\nUne gratifieria ou marché gratuit c’est quoi :\nUn espace sans droit d’entrée\, où chacun peut donner des objets et aussi en prend ou en recevoir librement.\nLe don se fait sans contrepartie et chacun peut s’approprier tout ce qu’il souhaite sans même donner\, dans la seule limite du raisonnable\nLe message est simple : « Amenez ce que vous voulez\, ou rien du tout. Repartez avec ce qui vous plaît »Invitation à se débarrasser de possessions matérielles devenues inutiles ou superflues\, le marché gratuit ou gratifieria permet d’offrir une nouvelle vie aux objets. \nQuels objets :\nTous sauf les volumineux et les produits chimiques.\nPour les objets volumineux un panneau d’affichage sera disponible pour permettre de les proposer. Préparez vos affiches en oubliant pas d’y mentionner un contact.\nTout objet doit être en bon état et en état de fonctionner.\n Quel volume : au maximum 200L\nQuand apporter les objets :\nVous pouvez venir à tout moment de la gratiféria pour déposer vos affaires. Pour facilier votre dépôt de matériel\, la route entre la mairie et la place est réservé pour y faciliter le dépôt d’objet en voiture.\nEt après :\nChacun récupère ses objets non donnés en fin de Gratiféria.\nLa buvette\nLa buvette est un espace de partage aussi\, en mode auberge espagnol\, chacun apporte à manger ou à boire que nous partageons. \nTexte inspiré de wikipédia et colibris06 colline d’azur \n\n
URL:http://ademonice06.com/event/grafiteria-marche-libre-a-mouans-sartoux/
LOCATION:Place Jean Jaures\, Mouans Sartoux\, 06370)
ATTACH;FMTTYPE=image/jpeg:http://ademonice06.com/wp-content/uploads/2018/11/collectif-citoyen.jpg
END:VEVENT
END:VCALENDAR