BEGIN:VCALENDAR
VERSION:2.0
PRODID:-//ADN - ECPv4.8.2//NONSGML v1.0//EN
CALSCALE:GREGORIAN
METHOD:PUBLISH
X-WR-CALNAME:ADN
X-ORIGINAL-URL:http://ademonice06.com
X-WR-CALDESC:Évènements pour ADN
BEGIN:VEVENT
DTSTART;TZID=Europe/Paris:20190221T160000
DTEND;TZID=Europe/Paris:20190221T190000
DTSTAMP:20260419T181654
CREATED:20190220T182545Z
LAST-MODIFIED:20190220T183246Z
UID:9391-1550764800-1550775600@ademonice06.com
SUMMARY:Histoires de passages le long de la frontière entre l’Italie et la France.
DESCRIPTION: \n
URL:http://ademonice06.com/event/histoires-de-passages-long-de-frontiere-entre-litalie-france/
LOCATION:Fortezza dell’Annunziata\, 41 Corso G. Verdi\, VINTIMILLE\, Italie\, 18039
CATEGORIES:AGENDA
END:VEVENT
END:VCALENDAR