BEGIN:VCALENDAR
VERSION:2.0
PRODID:-//ADN - ECPv4.8.2//NONSGML v1.0//EN
CALSCALE:GREGORIAN
METHOD:PUBLISH
X-WR-CALNAME:ADN
X-ORIGINAL-URL:http://ademonice06.com
X-WR-CALDESC:Évènements pour ADN
BEGIN:VEVENT
DTSTART;TZID=Europe/Paris:20180929T203000
DTEND;TZID=Europe/Paris:20180929T230000
DTSTAMP:20260424T092044
CREATED:20180910T135738Z
LAST-MODIFIED:20180910T135738Z
UID:8378-1538253000-1538262000@ademonice06.com
SUMMARY:HK l'empire de papier • première partie TchaPakan.
DESCRIPTION:Après s’être déclaré « Citoyen du monde »\, après s’être indigné de sa voix et de sa plume\, après nous avoir promis qu’il ne lâcherait rien\, après avoir « rallumé les étoiles » avec sa joyeuse bande de saltimbanks\, HK nous revient aujourd’hui avec un nouvel album l’empire de papier.\nPremière partie TchaPaKan\nChansons françaises festives et colorées… \nTarif Tête d’Affiche Plein – PLACEMENT LIBRE 16\,80 €Tarif Tête d’Affiche Réduit – PLACEMENT LIBRE 11\,80 € \n \n
URL:http://ademonice06.com/event/hk-lempire-de-papier-%e2%80%a2-premiere-partie-tchapakan/
LOCATION:Les Arts d’Azur – Le Broc
END:VEVENT
END:VCALENDAR