BEGIN:VCALENDAR
VERSION:2.0
PRODID:-//ADN - ECPv4.8.2//NONSGML v1.0//EN
CALSCALE:GREGORIAN
METHOD:PUBLISH
X-WR-CALNAME:ADN
X-ORIGINAL-URL:http://ademonice06.com
X-WR-CALDESC:Évènements pour ADN
BEGIN:VEVENT
DTSTART;VALUE=DATE:20181104
DTEND;VALUE=DATE:20181105
DTSTAMP:20260425T041527
CREATED:20181026T083324Z
LAST-MODIFIED:20181026T083842Z
UID:8690-1541289600-1541375999@ademonice06.com
SUMMARY:Journée d'anniversaire  de la ligne Nice / Ventimiglia-Cuneo-Torino.
DESCRIPTION:A l’occasion des 90 ans de la ligne Nice / Ventimiglia –Cuneo– Torino\, toujours pleine d’attraits\, toujours des milliers d’amoureux !\n\nRDV dimanche 4 novembre  \nInfos \n  \n
URL:http://ademonice06.com/event/journee-danniversaire-de-ligne-nice-ventimiglia-cuneo-torino/
LOCATION:Gare Thiers\, Avenue Thiers\, Nice\, 06000
CATEGORIES:AGENDA
END:VEVENT
END:VCALENDAR