BEGIN:VCALENDAR
VERSION:2.0
PRODID:-//ADN - ECPv4.8.2//NONSGML v1.0//EN
CALSCALE:GREGORIAN
METHOD:PUBLISH
X-WR-CALNAME:ADN
X-ORIGINAL-URL:http://ademonice06.com
X-WR-CALDESC:Évènements pour ADN
BEGIN:VEVENT
DTSTART;TZID=Europe/Paris:20181011T180000
DTEND;TZID=Europe/Paris:20181011T213000
DTSTAMP:20260424T161532
CREATED:20180928T152947Z
LAST-MODIFIED:20180928T152947Z
UID:8533-1539280800-1539293400@ademonice06.com
SUMMARY:Quand l'Art Rime avec Solidarité.
DESCRIPTION:\n\n\n\n\n\n
URL:http://ademonice06.com/event/lart-rime-solidarite/
LOCATION:La conciergerie Gounod\, 22 rue gounod\, Nice\, 06000
END:VEVENT
END:VCALENDAR