BEGIN:VCALENDAR
VERSION:2.0
PRODID:-//ADN - ECPv4.8.2//NONSGML v1.0//EN
CALSCALE:GREGORIAN
METHOD:PUBLISH
X-WR-CALNAME:ADN
X-ORIGINAL-URL:http://ademonice06.com
X-WR-CALDESC:Évènements pour ADN
BEGIN:VEVENT
DTSTART;TZID=Europe/Paris:20200224T180000
DTEND;TZID=Europe/Paris:20200224T200000
DTSTAMP:20260424T010457
CREATED:20200202T091757Z
LAST-MODIFIED:20200202T092438Z
UID:11251-1582567200-1582574400@ademonice06.com
SUMMARY:Rassemblement "Libérez Julian Assange !"
DESCRIPTION: \n
URL:http://ademonice06.com/event/liberez-julian-assange/
LOCATION:Place Garibaldi\, Place Garibaldi\, Nice\, 06300\, France
END:VEVENT
END:VCALENDAR