BEGIN:VCALENDAR
VERSION:2.0
PRODID:-//ADN - ECPv4.8.2//NONSGML v1.0//EN
CALSCALE:GREGORIAN
METHOD:PUBLISH
X-WR-CALNAME:ADN
X-ORIGINAL-URL:http://ademonice06.com
X-WR-CALDESC:Évènements pour ADN
BEGIN:VEVENT
DTSTART;TZID=Europe/Paris:20181006T140000
DTEND;TZID=Europe/Paris:20181006T160000
DTSTAMP:20260424T105426
CREATED:20180917T092357Z
LAST-MODIFIED:20180917T092656Z
UID:8453-1538834400-1538841600@ademonice06.com
SUMMARY:Manifestation contre la fermeture de gares.
DESCRIPTION:Manifestation contre la fermeture des gares de Tende\, Sospel\, La Trinité Garavan\, Carnoles et Villefranche sur mer.\n \n\nLa fermeture des gares est purement inacceptable! \nEn effet\, depuis des années\, nous espérons une amplitude plus importante et voilà qu’on ferme l’accueil des clients\, l’information et la vente sans aucun respect pour les usagers et les salariés en responsabilité dans ces gares.\nComment envisager par exemple en gare de Tende des voyageurs sans information par tous les temps? Gare de Sospel des salariés sans information le matin? Des touristes perdus \, des voyageurs sans billets \, des correspondances annulées et personne pour prendre en charge les usagers?\nDe plus\, concernant la ligne NICE-CUNEO-VENTIMIGLIA\, la SNCF l’a crée\, à force de ralentissements et de travaux\, en catégorie « très petite ligne » mais il ne tiendrait qu’à elle même que cette catégorie évolue! Laissez les trains rouler à plus de 40km/H comme il est possible\, laissez les trains de ciments passer la nuit\, et la ligne redeviendra ce qu’elle a toujours été\, une ligne internationale dont la région devrait s’enorgueillir.\nA l’heure où nos classes ferment les unes après les autres nous n’accepterons pas que ces parents\, que sont les agents SNCF \, que ces salariés qui ont acheté et construit leurs vies ici partent sans la moindre considération \, nous avons à cœur qu’autour de notre ligne de vie la vie s’épanouisse.\nhttps://www.change.org/p/sncf-ter-paca-non-aux-fermetures-d… \n\n
URL:http://ademonice06.com/event/manifestation-contre-fermetures-de-gares/
LOCATION:Gare Thiers\, Avenue Thiers\, Nice\, 06000
END:VEVENT
END:VCALENDAR