BEGIN:VCALENDAR
VERSION:2.0
PRODID:-//ADN - ECPv4.8.2//NONSGML v1.0//EN
CALSCALE:GREGORIAN
METHOD:PUBLISH
X-WR-CALNAME:ADN
X-ORIGINAL-URL:http://ademonice06.com
X-WR-CALDESC:Évènements pour ADN
BEGIN:VEVENT
DTSTART;TZID=Europe/Paris:20181125T140000
DTEND;TZID=Europe/Paris:20181125T160000
DTSTAMP:20260424T183206
CREATED:20181103T174304Z
LAST-MODIFIED:20181103T174343Z
UID:8760-1543154400-1543161600@ademonice06.com
SUMMARY:Le noël de la rue .
DESCRIPTION:Le Noël de La Rue à Nice (Quartier Liberation)\nL’association le Café suspendu organise  un repas pour les Sans Abris à l’occasion de Noël !\nPour l’occasion un grand repas sera préparé par les bénévoles. \n\nL’association compte sur votre générosité et la générosité des commerçants pour que les Sans Abris et les personnes en situation de précarité passent un Noël comme il se doit avec un bon repas et des cadeaux ! \n  \n\n  \n
URL:http://ademonice06.com/event/noel-de-rue/
LOCATION:Gare du sud\, Place de la Liberation\, Nice\, 06000
CATEGORIES:AGENDA
END:VEVENT
END:VCALENDAR