BEGIN:VCALENDAR
VERSION:2.0
PRODID:-//ADN - ECPv4.8.2//NONSGML v1.0//EN
CALSCALE:GREGORIAN
METHOD:PUBLISH
X-WR-CALNAME:ADN
X-ORIGINAL-URL:http://ademonice06.com
X-WR-CALDESC:Évènements pour ADN
BEGIN:VEVENT
DTSTART;TZID=Europe/Paris:20181024T170000
DTEND;TZID=Europe/Paris:20181024T200000
DTSTAMP:20260425T003900
CREATED:20181014T164336Z
LAST-MODIFIED:20181014T164336Z
UID:8619-1540400400-1540411200@ademonice06.com
SUMMARY:Octobre Palestine.
DESCRIPTION:La Famille de RAZAN El-Najjar \, la jeune infirmière palestinienne tuée le premier juin lors d’une Marche du retour\, sera présente ainsi que le réalisateur Iyad Allastal auteur d’un documentaire »Une trace du papillon » tourné cet été 2018 à Gaza. \n
URL:http://ademonice06.com/event/octobre-palestine/
LOCATION:FSGT\, Salle FSGT\, 27 Rey Smolett\, 06300
CATEGORIES:AGENDA
END:VEVENT
END:VCALENDAR