BEGIN:VCALENDAR
VERSION:2.0
PRODID:-//ADN - ECPv4.8.2//NONSGML v1.0//EN
CALSCALE:GREGORIAN
METHOD:PUBLISH
X-WR-CALNAME:ADN
X-ORIGINAL-URL:http://ademonice06.com
X-WR-CALDESC:Évènements pour ADN
BEGIN:VEVENT
DTSTART;TZID=Europe/Paris:20181201T140000
DTEND;TZID=Europe/Paris:20181201T170000
DTSTAMP:20260424T115316
CREATED:20181113T160639Z
LAST-MODIFIED:20181113T160639Z
UID:8912-1543672800-1543683600@ademonice06.com
SUMMARY:Des œuvres d'art pour donner un toit !
DESCRIPTION:A l’initiative de Claudine Dupeyron et Richard Roux\, les artistes du Pigeonnier et d’autres artistes invités exposent et vendent des œuvres d’art au profit de l’association Cent pour Un 06. \nLe produit des ventes permettra de loger des familles à la rue.\nPour nous contacter écrire à centpourun06@gmail.com\nou à contact@lepigeonnier-nice.fr\nPour découvrir le lieu et les artistes:\nhttp://lepigeonnier-nice.fr/index.html \n
URL:http://ademonice06.com/event/oeuvres-dart-donner-toit/
LOCATION:Le Pigeonnier\, 4 rue Colonna d'Istria\, Nice\, 06300
END:VEVENT
END:VCALENDAR