BEGIN:VCALENDAR
VERSION:2.0
PRODID:-//ADN - ECPv4.8.2//NONSGML v1.0//EN
CALSCALE:GREGORIAN
METHOD:PUBLISH
X-WR-CALNAME:ADN
X-ORIGINAL-URL:http://ademonice06.com
X-WR-CALDESC:Évènements pour ADN
BEGIN:VEVENT
DTSTART;TZID=Europe/Paris:20181019T080000
DTEND;TZID=Europe/Paris:20181019T220000
DTSTAMP:20260424T194422
CREATED:20181016T111404Z
LAST-MODIFIED:20181016T111613Z
UID:8633-1539936000-1539986400@ademonice06.com
SUMMARY:Ouverture Festival AlimenTERRE 2018 .
DESCRIPTION:\n\nOuverture du Festival AlimenTERRE 2018 – La Relève\n\n \n\nA l’occasion du Festival AlimenTERRE\, qui se tiendra du 27 octobre au 24 novembre sur quatre fermes bio du département\, Les Veillées Paysannes d’Automne débutent le jeudi 18 octobre autour d’un apéro et d’une soirée ciné-débat autour du film « La relève » réalisé par le Conseil de Développement du Parc naturel régional des Préalpes d’Azur.\nEn partenariat avec la Ville De Mouans Sartoux\, nous vous invitons dès le 18 octobre au cinéma La Strada à Mouans-Sartoux pour ouvrir le Festival et partager de bios moments !Le grand public est invité à découvrir la sélection du Festival AlimenTERRE 2018 et son programme :\n– 27 octobre : Saint-Cézaire-sur-Siagne – « Le champ des possibles »\n– 10 novembre : Bonson – Frontera invisible\n– 18 novembre : Ascros – « La planète lait »\n– [ANNULATION : 24 novembre : Tourrettes-sur-Loup – « L’agroécologie dans l’oasis de Chenini »] \nN’oubliez pas de réserver vos places à : agribio06communication@gmail.com\n04 89 05 75 47· \n\n\n\n\n\n
URL:http://ademonice06.com/event/ouverture-festival-alimenterre-2018/
LOCATION:Cinéma La Strada\, Mouans Sartoux\, 06370
END:VEVENT
END:VCALENDAR