BEGIN:VCALENDAR
VERSION:2.0
PRODID:-//ADN - ECPv4.8.2//NONSGML v1.0//EN
CALSCALE:GREGORIAN
METHOD:PUBLISH
X-WR-CALNAME:ADN
X-ORIGINAL-URL:http://ademonice06.com
X-WR-CALDESC:Évènements pour ADN
BEGIN:VEVENT
DTSTART;TZID=Europe/Paris:20180325T160000
DTEND;TZID=Europe/Paris:20180325T190000
DTSTAMP:20260424T102531
CREATED:20180306T191324Z
LAST-MODIFIED:20180306T192429Z
UID:7184-1521993600-1522004400@ademonice06.com
SUMMARY:Pinar Selek à la Zonmé : l'intersectionnalité.
DESCRIPTION:Le dimanche 25 mars\, de 16h à 19h\, la Librairie Mots du Monde\n (5 rue Vernier)inaugure un partenariat régulier avec la Zonmé. \nVous pourrez en effet les  retrouver tous les 4èmes dimanches du mois pour une conférence\, des lectures\, un débat. \n\nPour cette première fois\,\nla librairie recevra\nPinar Selek.\nqui  présentera deux de ses étudiant-e-s en sciences politiques qui nous parleront de leur travail autour de l’intersectionnalité\, notion employée en sociologie et en réflexion politique\, qui désigne la situation de personnes subissant simultanément plusieurs formes de domination ou de discrimination dans une société. \nPour en savoir plus:  La Zonmé     Pinar Selek \n  \n  \n
URL:http://ademonice06.com/event/pinar-selek-a-zonme-lintersectionnalite/
LOCATION:La Zonmé\, 7 bis rue des Combattants en Afrique du Nord\, Nice\, PACA\, 06000\, France Métropolitaine
END:VEVENT
END:VCALENDAR