BEGIN:VCALENDAR
VERSION:2.0
PRODID:-//ADN - ECPv4.8.2//NONSGML v1.0//EN
CALSCALE:GREGORIAN
METHOD:PUBLISH
X-WR-CALNAME:ADN
X-ORIGINAL-URL:http://ademonice06.com
X-WR-CALDESC:Évènements pour ADN
BEGIN:VEVENT
DTSTART;TZID=Europe/Paris:20181022T133000
DTEND;TZID=Europe/Paris:20181022T170000
DTSTAMP:20260425T004026
CREATED:20181021T072454Z
LAST-MODIFIED:20181021T072536Z
UID:8650-1540215000-1540227600@ademonice06.com
SUMMARY:Le préfet des Alpes Maritimes contre Cedric Herrou
DESCRIPTION:Rendez vous Lundi 22 à 13h 30 devant le palais de justice \n
URL:http://ademonice06.com/event/prefet-alpes-maritimes-cintre-cedric-herrou/
CATEGORIES:AGENDA
END:VEVENT
END:VCALENDAR