BEGIN:VCALENDAR
VERSION:2.0
PRODID:-//ADN - ECPv4.8.2//NONSGML v1.0//EN
CALSCALE:GREGORIAN
METHOD:PUBLISH
X-WR-CALNAME:ADN
X-ORIGINAL-URL:http://ademonice06.com
X-WR-CALDESC:Évènements pour ADN
BEGIN:VEVENT
DTSTART;TZID=Europe/Paris:20181115T170000
DTEND;TZID=Europe/Paris:20181115T190000
DTSTAMP:20260425T131005
CREATED:20181113T104844Z
LAST-MODIFIED:20181113T110156Z
UID:8884-1542301200-1542308400@ademonice06.com
SUMMARY:Présentation du livre "Afrofem" de Mwasi collectif Afroféministe.
DESCRIPTION:Collectif Afroféministe créé en 2014 par un groupe d’Africaines et Afrodescendantes qui ressentaient le besoin de fédérer\, le collectif Mwasi propose d’échanger et de s’exprimer sur les questions liées aux Femmes Noires. \nSelon leur propre présentation ielles ont une « approche intersectionnelle des luttes qu’ielles rencontrent\, le place sur de nombreux champs de bataille; contre les discriminations liées à la classe\, au genre\, à la sexualité\, à la santé\, la religion; contre l’institutionnalisation des dominations hétéropatriarcales dans le système capitaliste hégémonique blanc dans toute sa complexité » \nNous vous invitons à lire avec nous et à parler de leur livre récemment paru\, « Afrofem »\, manifeste politique pour un afroféminisme qui propose au femmes noires de s’ « organiser et non d’agoniser ». \n
URL:http://ademonice06.com/event/presentation-livre-afrofem-de-mwasi-collectif-afrofeministe/
LOCATION:Salle de conférence de la BU de Carlone\,\, 98 Boulevard Edouard Herriot\, Nice\, 06200
CATEGORIES:AGENDA
END:VEVENT
END:VCALENDAR