BEGIN:VCALENDAR
VERSION:2.0
PRODID:-//ADN - ECPv4.8.2//NONSGML v1.0//EN
CALSCALE:GREGORIAN
METHOD:PUBLISH
X-WR-CALNAME:ADN
X-ORIGINAL-URL:http://ademonice06.com
X-WR-CALDESC:Évènements pour ADN
BEGIN:VEVENT
DTSTART;TZID=Europe/Paris:20180929T100000
DTEND;TZID=Europe/Paris:20180929T190000
DTSTAMP:20260424T073603
CREATED:20180823T092440Z
LAST-MODIFIED:20180823T092440Z
UID:8251-1538215200-1538247600@ademonice06.com
SUMMARY:Pyramide de chaussures à Nice
DESCRIPTION:24e PYRAMIDES DE CHAUSSURES : LANCEZ DES CHAUSSURES\, PAS DES BOMBES ! \nLa video \nEn 2018\, les Pyramides de chaussures partent en tournée dans toute la France. Chaque week-end de septembre\, des Pyramides s’élèveront pour dire NON aux bombardements des civils ! \n✦ Infos : http://stopbombing.fr \nPour faire entendre la voix des milliers de victimes et ouvrir un processus politique visant à mettre fin aux bombardements en zones urbaines\, Handicap International entend aujourd’hui réunir 1 million de signatures pour faire pression sur les États. \n✦ Venez symboliquement lancer une paire de chaussures pour soutenir les victimes de guerre et signer la pétition ! \n✦ Plongez-vous au cœur d’expériences immersives : à travers la réalité virtuelle ou des bandes dessinées\, découvrez le parcours d’une victime de guerre et agissez à votre échelle pour dire NON aux bombardements des civils. \n✦ A travers une installation photographique en collaboration avec le photographe JR\, Handicap International France donne un visage aux 90 victimes quotidiennes des bombardements en zones peuplées. \n
URL:http://ademonice06.com/event/pyramide-de-chaussures-a-nice/
LOCATION:Place Masséna\, Nice
END:VEVENT
END:VCALENDAR