BEGIN:VCALENDAR
VERSION:2.0
PRODID:-//ADN - ECPv4.8.2//NONSGML v1.0//EN
CALSCALE:GREGORIAN
METHOD:PUBLISH
X-WR-CALNAME:ADN
X-ORIGINAL-URL:http://ademonice06.com
X-WR-CALDESC:Évènements pour ADN
BEGIN:VEVENT
DTSTART;TZID=Europe/Paris:20190109T130000
DTEND;TZID=Europe/Paris:20190109T190000
DTSTAMP:20260425T020340
CREATED:20190106T090941Z
LAST-MODIFIED:20190106T100608Z
UID:9142-1547038800-1547060400@ademonice06.com
SUMMARY:Rassemblement : Solidarité contre la répression.
DESCRIPTION:Encore une grave atteinte au droit syndical à Nice sur l’un de nos militant-e-s durant une manifestation lycéenne ! \nM. Rabah SOUCHI a violemment insulté\, intimidé physiquement notre camarade et menti dans sa déclaration afin de mettre en GAV notre camarade Maxime et l’empêcher de participer à la lutte lycéenne. \nDès son arrivée dans le cortège lycéen en direction de l’aéroport lundi 3 décembre\, le commissaire le prend à partie et lui lance « ça me dérange pas de te défoncer au milieu de la manif ». \nAprès que notre camarade ait quitté la manifestation\, le commissaire de la police de Nice va inventer tout une histoire et mentir sciemment dans sa déclaration\, afin d’avoir un prétexte pour arrêter Maxime et le placer en garde à vue. \nDans sa version\, Maxime l’aurait insulté en ces mots « Connard de flic\, va te faire enculer ». Cette invention est grossière puisque Maxime est resté calme\, n’a pas répondu aux provocations et n’a jamais utilisé ce genre d’insulte stigmatisant certaines pratiques sexuelles comme dégradantes. \nMaxime est resté sans liberté pendant 26h\, il sera jugé le 9 janvier pour injure à un dépositaire de l’autorité publique ! Pendant ce temps\, son contrôle judiciaire est renforcé et il est interdit de manifestation (« pour sa protection »…). \nCet acharnement des plus hauts bureaucrates de la police niçoise est scandaleux ! Nous réclamons la démission du commissaire divisionnaire de police M. Rabah SOUCHI\, chef du service de sécurité de proximité de Nice. Soyons solidaires ! Rendez-vous le 9 janvier devant le tribunal de Nice. \nJustice pour notre camarade ! Le chef de la Police Niçoise Ment ! Démission de Rabah SOUCHI ! \nLe lien de la cagnotte pour les frais d’avocats de Maxime : https://www.leetchi.com/fr/Cagnotte/45177769/0a32c9b9 \nOrganisé par Solidaires étudiant-e-s Nice et SUD Education 06 \n  \n  \n  \n
URL:http://ademonice06.com/event/rassemblement-solidarite-contre-repression/
LOCATION:TGI de Nice\, Place du Palais \, Nice\, 06300
CATEGORIES:AGENDA
END:VEVENT
END:VCALENDAR