BEGIN:VCALENDAR
VERSION:2.0
PRODID:-//ADN - ECPv4.8.2//NONSGML v1.0//EN
CALSCALE:GREGORIAN
METHOD:PUBLISH
X-WR-CALNAME:ADN
X-ORIGINAL-URL:http://ademonice06.com
X-WR-CALDESC:Évènements pour ADN
BEGIN:VEVENT
DTSTART;TZID=Europe/Paris:20201002T183000
DTEND;TZID=Europe/Paris:20201002T200000
DTSTAMP:20260421T094941
CREATED:20200916T130404Z
LAST-MODIFIED:20200916T152702Z
UID:8578-1601663400-1601668800@ademonice06.com
SUMMARY:Rassemblement "Nous voulons des coquelicots".
DESCRIPTION:Les enfants sont les bienvenus. La manifestation est déclarée …. \nMerci à tous et à toutes et au plaisir de se rencontrer vendredi. \n \n
URL:http://ademonice06.com/event/rassemblement-voulons-coquelicots-nice/
LOCATION:Place de la Libération\, Nice\, 06000
CATEGORIES:AGENDA
END:VEVENT
END:VCALENDAR