BEGIN:VCALENDAR
VERSION:2.0
PRODID:-//ADN - ECPv4.8.2//NONSGML v1.0//EN
CALSCALE:GREGORIAN
METHOD:PUBLISH
X-WR-CALNAME:ADN
X-ORIGINAL-URL:http://ademonice06.com
X-WR-CALDESC:Évènements pour ADN
BEGIN:VEVENT
DTSTART;TZID=Europe/Paris:20181130T173000
DTEND;TZID=Europe/Paris:20181130T193000
DTSTAMP:20260424T151315
CREATED:20181124T084702Z
LAST-MODIFIED:20181124T084702Z
UID:9026-1543599000-1543606200@ademonice06.com
SUMMARY:Rencontre avec Manon Garcia.
DESCRIPTION:La librairie La Briqueterie est heureuse de vous convier à une La librairie La Briqueterie est heureuse de vous convier à une rencontre avec Manon Garcia\, normalienne\, agrégée en philosophie et spécialiste de philosophie féministe\, autour de la parution de son livre  »On ne nait pas soumise\, on le devient » aux éditions Climats. Cette rencontre sera animée par Mariane Khalili Romeo directrice de l’association L’Eclat (Expériences pour le Cinéma\, les Lettres\, Arts et technologies) et se tiendra chez notre partenaire Joya Livestore situé 1\, Place du Pin à Nice\, jeudi 30 novembre à partir 17h30.\nOn vous attend nombreux… \n »Même les femmes les plus indépendantes et les plus féministes se surprennent à aimer le regard conquérant des hommes sur elles\, à désirer être un objet soumis dans les bras de leur partenaire\, ou à préférer des tâches ménagères – les petits plaisirs du linge bien plié\, du petit-déjeuner joliment préparé pour la famille – à des activités censément plus épanouissantes. Ces désirs\, ces plaisirs sont-ils incompatibles avec leur indépendance ? Est-ce trahir les siècles de féminisme qui les ont précédées? Peut-on attendre que les hommes fassent le «premier pas» et revendiquer l’égalité des sexes?\nLes récents scandales sexuels qui ont agité le monde entier ont jeté une lumière crue sur ces ambivalences et sur l’envers de la domination masculine : le consentement des femmes à leur propre soumission.\nTabou philosophique et point aveugle du féminisme\, la soumission des femmes n’est jamais analysée en détail\, dans la complexité des existences vécues.\nSur les pas de Simone de Beauvoir\, Manon Garcia s’y attelle avec force\, parce que comprendre pourquoi les femmes se soumettent est le préalable nécessaire à toute émancipation. » \n\n\n· Organisé par JOYA Lifestore et La Briqueterie librairie concept store\n\n\n  \n
URL:http://ademonice06.com/event/rencontre-manon-garcia/
LOCATION:Joya Lifestore\, 1\, Place du Pin\, Nice\, 06300
CATEGORIES:AGENDA
END:VEVENT
END:VCALENDAR