BEGIN:VCALENDAR
VERSION:2.0
PRODID:-//ADN - ECPv4.8.2//NONSGML v1.0//EN
CALSCALE:GREGORIAN
METHOD:PUBLISH
X-WR-CALNAME:ADN
X-ORIGINAL-URL:http://ademonice06.com
X-WR-CALDESC:Évènements pour ADN
BEGIN:VEVENT
DTSTART;TZID=Europe/Paris:20181011T180000
DTEND;TZID=Europe/Paris:20181011T210000
DTSTAMP:20260424T124028
CREATED:20181010T083001Z
LAST-MODIFIED:20181010T120303Z
UID:8522-1539280800-1539291600@ademonice06.com
SUMMARY:Rencontre avec Seyda Selek.
DESCRIPTION:Le Planning Familial 06 vous propose une rencontre avec Seyda Selek le jeudi 11 octobre à 18h à la salle FSGT06\, 27 rue Smolett\nà Nice\nSeyda est la soeur de Pinar Selek\, actuellement résidente à Nice\, adhérente du Planning\, et dont nous faisons partie du comité de soutien. Pour rappel\, Pinar\, sociologue et écrivaine\, militante féministe et antimilitariste\, fait l’objet d’un procès en Turquie depuis 20 ans. Accusée de terrorisme\, et malgré plusieurs acquittements\, elle est toujours poursuivie par le gouvernement turc. \nSa sœur Seyda a grandi avec ce procès et est devenue avocate dans le but de la défendre. Elle tient actuellement le gouvernail dans l’équipe des avocats qui défendent la cause de sa sœur en Turquie. \nLors de cette rencontre\, Seyda pourra faire le point sur la situation actuelle du procès\, puis nous parlera de la situation du mouvement féministe malgré la répression. \nhttp://alpes-maritimes.planning-familial.org/\nComité Pinar Selek \n
URL:http://ademonice06.com/event/rencontre-seyda-selek/
LOCATION:FSGT\, 27 rue Smolett\, Nice\, 06300
ORGANIZER;CN="Planning%20familial":MAILTO:mfpf06@gmail.com
END:VEVENT
END:VCALENDAR