BEGIN:VCALENDAR
VERSION:2.0
PRODID:-//ADN - ECPv4.8.2//NONSGML v1.0//EN
CALSCALE:GREGORIAN
METHOD:PUBLISH
X-WR-CALNAME:ADN
X-ORIGINAL-URL:http://ademonice06.com
X-WR-CALDESC:Évènements pour ADN
BEGIN:VEVENT
DTSTART;TZID=Europe/Paris:20181128T200000
DTEND;TZID=Europe/Paris:20181202T230000
DTSTAMP:20260424T164822
CREATED:20181112T132932Z
LAST-MODIFIED:20181118T172411Z
UID:8867-1543435200-1543791600@ademonice06.com
SUMMARY:Les Rencontres de Regard Indépendant ont 20 ans !
DESCRIPTION:Toute l’équipe de Regard Indépendant a le plaisir de vous convier à la 20e édition des Rencontres Cinéma et Vidéo qui se déroulera du mercredi 28 novembre au samedi 1er décembre au sein de l’emblématique salle du Cinéma Mercury\, à la Cinémathèque de Nice pour la soirée d’ouverture et à la salle Laure Écard pour une soirée anniversaire. \n  \n \nPour célébrer ensemble cet anniversaire emblématique\, nous vous invitons à vous joindre à nous le mercredi 28 novembre\, à la salle Laure Ecard (Nice)\, de 20h à 22h\, autour du programme suivant (détails à venir) :\n– Programme des 20 ans :\nUne sélection de courts métrages remarquables en super 8 tourné monté issus des collections de Regard Indépendant\n– Les Bulles par la compagnie Hypotypose\, spectacle\n– Carte blanche à l’association Héliotrope :\nUne sélection de courts métrages proposée par l’association Héliotrope\n– Ciné-concert d’Emmanuelle Nègre et Geoffrey Boulier \nJeudi 29 novembre\, s’ouvriront enfin les tant attendues 20e Rencontres Cinéma et Vidéo de Regard Indépendant !\nLa cinémathèque de Nice nous fera l’honneur de nous accueillir pour cette Soirée d’ouverture\, durant laquelle nous vous proposerons le programme suivant :\n– Carte blanche aux Straight 8 de Londres :\nUne sélection de courts métrages Super 8 tournés montés par nos homologues anglais\, les mythiques Straight 8!\n– « Trafic Record » :\nUn film de Pierre-Rémy Pichon – musique Jean Sibelius et Karlheinz Stockhausen – Super 8 – 9 min. 30 s.\n« Voilà vingt ans que je garde les pieds sur terre et dans le ciel passent des avions\, où que je sois\, sans cesse et toujours plus. »\n– Carte blanche au Neuchâtel Super 8 Festival (ENS8FF) :\nUne présentation du Palmarès 2017 de l’ENS8FF\n– « Seaside » :\nUn film d’Emmanuelle Nègre – Musique originale Gorffrey Boulier – France – 16 mm – 3 min. 43s.\n« Seaside est réalisé à partir d’une bobine 16mm trouvée. Les personnages\, en vacances sur une plage du sud de la France\, sont grattés image par image créant des silhouettes fantomatiques. »\n– « Sans titre » :\nUn film Super 8 gratté d’Emmanuel Desestré – Super 8 – 3 min.\n– « Hold Me While I’m Naked » :\nUn film de George Kuchar – USA – 1966 – 16mm couleurs – 15 min. Avec Donna Kerness\, George Kuchar\, Andrea Lunin\, Hope Morris et Steve Packard.\n« Les tribulations d’un réalisateur indépendant\, frustré à chaque fois qu’il essaye de faire un film qui prétend à des mérites artistiques. L’œuvre emblématique d’un cinéaste américain « underground » culte. »\n« Un regard très direct et subtil\, triste et drôle\, sur rien moins que la frustration sexuelle et la solitude. Par son économie et la puissance de son imagerie\, Hold me… surpasse toutes les œuvres précédentes de Kuchar. La vieille saveur du glamour et du drame Hollywoodien mélangés avec le quotidien de la vie réelle créent et inspirent le contrepoint d’un désir inatteignable contre une insupportable réalité. » – Ken Kelman \nVendredi 30 novembre\, ce ne sera pas une\, ni deux mais quatre sessions de projection que nous vous proposerons au Cinéma le Mercury !!\n– 2 projections de Films d’écoles et d’ateliers\, à 14h et 16h\, avec\, entre autres\, des films réalisés par Il était un truc…\, Héliotrope et l’ESRA.\n– 2 projections de Films documentaires\, à 19h et 21h\, mêlant format Super 8 et format numérique.\nSoit\, 20 films à découvrir à nos côtés! \nSamedi 1er décembre. Pour ce denier jour des Rencontres Cinéma et Vidéo\, retrouvez nous au Cinéma Mercury pour un programme documentaire en deux parties et pour l’inénarrable Grand soir du Super 8 !!\n– 2 projections de documentaires\, à 14h et à 16h\, faisant la part belle à 4 talentueux réalisateurs.\n– le Grand soir du Super 8\, où vous seront présentés\, à deux reprises\, à 19h30 puis à 21h\, les Super 8 tournés-montés de la collection 2018 dont la thématique est … Utopia !\nUn dernier moment de partage cinématographique à ne pas louper ! \n
URL:http://ademonice06.com/event/rencontres-de-regard-independant-ont-20-ans/
END:VEVENT
END:VCALENDAR