BEGIN:VCALENDAR
VERSION:2.0
PRODID:-//ADN - ECPv4.8.2//NONSGML v1.0//EN
CALSCALE:GREGORIAN
METHOD:PUBLISH
X-WR-CALNAME:ADN
X-ORIGINAL-URL:http://ademonice06.com
X-WR-CALDESC:Évènements pour ADN
BEGIN:VEVENT
DTSTART;TZID=Europe/Paris:20181130T183000
DTEND;TZID=Europe/Paris:20181130T210000
DTSTAMP:20260424T133407
CREATED:20181108T123848Z
LAST-MODIFIED:20181108T123848Z
UID:8799-1543602600-1543611600@ademonice06.com
SUMMARY:Représentation théâtrale Planning Familial 06.
DESCRIPTION:Dans le cadre de la journée de lutte contre les violences faites aux femmes\, le Planning Familial 06 vous invite à la représentation de « Je ne serai plus jamais vieille » le vendredi 30 novembre à 18h30 à l’Espace Associations Garibaldi\, 12 place Garibaldi à Nice. \n\n\n\n\n\n\n\nAdèle raconte le harcèlement que son conjoint\, Guillaume\, lui fait vivre. Après l’isolement et la séquestration viennent l’humiliation\, l’avortement forcé\, la violence et les viols conjugaux. L’alcool et quelques rêves deviennent rapidement ses seuls réconforts dans cette descente aux enfers.\n\n\n  \nEntrée libre à partir de 18h\, attention fermeture des portes à 18h30. \n\nUn débat suivra la représentation.\nNous vous espérons nombreuses et nombreuses.\n\n\n\n\n
URL:http://ademonice06.com/event/representation-theatrale-planning-familial-06/
LOCATION:Amphithéâtre Garibaldi Espace Associations\, 12 place Garibaldi Nice (Arrêt Tram - Parking théâtre)
CATEGORIES:AGENDA
ORGANIZER;CN="Planning%20familial":MAILTO:mfpf06@gmail.com
END:VEVENT
END:VCALENDAR