BEGIN:VCALENDAR
VERSION:2.0
PRODID:-//ADN - ECPv4.8.2//NONSGML v1.0//EN
CALSCALE:GREGORIAN
METHOD:PUBLISH
X-WR-CALNAME:ADN
X-ORIGINAL-URL:http://ademonice06.com
X-WR-CALDESC:Évènements pour ADN
BEGIN:VEVENT
DTSTART;TZID=Europe/Paris:20181018T183000
DTEND;TZID=Europe/Paris:20181018T213000
DTSTAMP:20260424T180803
CREATED:20181010T083819Z
LAST-MODIFIED:20181010T120857Z
UID:8505-1539887400-1539898200@ademonice06.com
SUMMARY:Les services publics à la française.
DESCRIPTION: \n
URL:http://ademonice06.com/event/services-publics-a-francaise/
LOCATION:Amphithéâtre Garibaldi Espace Associations\, 12 place Garibaldi Nice (Arrêt Tram - Parking théâtre)
END:VEVENT
END:VCALENDAR