BEGIN:VCALENDAR
VERSION:2.0
PRODID:-//ADN - ECPv4.8.2//NONSGML v1.0//EN
CALSCALE:GREGORIAN
METHOD:PUBLISH
X-WR-CALNAME:ADN
X-ORIGINAL-URL:http://ademonice06.com
X-WR-CALDESC:Évènements pour ADN
BEGIN:VEVENT
DTSTART;TZID=Europe/Paris:20190309T190000
DTEND;TZID=Europe/Paris:20190309T233000
DTSTAMP:20260420T010046
CREATED:20190302T195756Z
LAST-MODIFIED:20190302T195811Z
UID:9493-1552158000-1552174200@ademonice06.com
SUMMARY:Soirée de présentation du guide alternatif Pilule rouge.
DESCRIPTION:Pour célébrer cette naissance\, amis de la ZONME qui nous ont généreusement invités\, une GRANDE SOIREE PILULE ROUGE \ntoutes les infos  \n
URL:http://ademonice06.com/event/soiree-de-presentation-guide-alternatif-pilule-rouge/
LOCATION:La Zonmé\, 7 bis rue des Combattants en Afrique du Nord\, Nice\, PACA\, 06000\, France Métropolitaine
CATEGORIES:AGENDA
END:VEVENT
END:VCALENDAR