BEGIN:VCALENDAR
VERSION:2.0
PRODID:-//ADN - ECPv4.8.2//NONSGML v1.0//EN
CALSCALE:GREGORIAN
METHOD:PUBLISH
X-WR-CALNAME:ADN
X-ORIGINAL-URL:http://ademonice06.com
X-WR-CALDESC:Évènements pour ADN
BEGIN:VEVENT
DTSTART;TZID=Europe/Paris:20181020T160000
DTEND;TZID=Europe/Paris:20181020T180000
DTSTAMP:20260424T212321
CREATED:20181010T090531Z
LAST-MODIFIED:20181010T090531Z
UID:8566-1540051200-1540058400@ademonice06.com
SUMMARY:Soutien à Cent pour Un 06 !
DESCRIPTION:Soutien à Cent pour Un 06 !\n Cent pour Un héberge des familles totalement démunies.\n20 artistes se mobilisent et mettent aux enchères une œuvre donnée au profit de l’association. \n\n  \n\n
URL:http://ademonice06.com/event/soutien-a-cent-06/
LOCATION:Quincaillerie d’art\, 4 rue Verdi\, Nice\, 06000
END:VEVENT
END:VCALENDAR