BEGIN:VCALENDAR
VERSION:2.0
PRODID:-//ADN - ECPv4.8.2//NONSGML v1.0//EN
CALSCALE:GREGORIAN
METHOD:PUBLISH
X-WR-CALNAME:ADN
X-ORIGINAL-URL:http://ademonice06.com
X-WR-CALDESC:Évènements pour ADN
BEGIN:VEVENT
DTSTART;TZID=Europe/Paris:20190216T100000
DTEND;TZID=Europe/Paris:20190216T180000
DTSTAMP:20260419T141205
CREATED:20190203T085510Z
LAST-MODIFIED:20190203T085510Z
UID:9277-1550311200-1550340000@ademonice06.com
SUMMARY:Vide dressing solidaire.
DESCRIPTION:ANICES organise son vide-dressing solidaire au profit des actions de solidarité de l’association. Les fonds collectés serviront à acheter des produits de 1ère nécessité pour les personnes démunies.\nLes articles seront vendus entre 1€ et 5€ ! \n
URL:http://ademonice06.com/event/vide-dressing-solidaire/
LOCATION:Anices Handisport\, 7 rue Joseph et Xavier de Maistre\, Nice\, 06200
CATEGORIES:AGENDA
END:VEVENT
END:VCALENDAR