BEGIN:VCALENDAR
VERSION:2.0
PRODID:-//ADN - ECPv4.8.2//NONSGML v1.0//EN
CALSCALE:GREGORIAN
METHOD:PUBLISH
X-WR-CALNAME:ADN
X-ORIGINAL-URL:http://ademonice06.com
X-WR-CALDESC:Évènements pour ADN
BEGIN:VEVENT
DTSTART;TZID=Europe/Paris:20210323T200000
DTEND;TZID=Europe/Paris:20210323T200000
DTSTAMP:20260419T151403
CREATED:20210317T155004Z
LAST-MODIFIED:20210317T155012Z
UID:12559-1616529600-1616529600@ademonice06.com
SUMMARY:Vivre sa vie de jean-Luc Godard.
DESCRIPTION:Vivre sa vie . \n \n
URL:http://ademonice06.com/event/vivre-vie-de-jean-luc-godard/
LOCATION:Espace Magnan\, 31 rue Louis Coppet\, Nice\, 06000
CATEGORIES:AGENDA
END:VEVENT
END:VCALENDAR