BEGIN:VCALENDAR
VERSION:2.0
PRODID:-//ADN - ECPv4.8.2//NONSGML v1.0//EN
CALSCALE:GREGORIAN
METHOD:PUBLISH
X-WR-CALNAME:ADN
X-ORIGINAL-URL:http://ademonice06.com
X-WR-CALDESC:Évènements pour ADN
BEGIN:VEVENT
DTSTART;TZID=Europe/Paris:20170415T080000
DTEND;TZID=Europe/Paris:20170416T170000
DTSTAMP:20260425T152244
CREATED:20170303T155712Z
LAST-MODIFIED:20170320T112741Z
UID:4851-1492243200-1492362000@ademonice06.com
SUMMARY:Mobilisation à la frontiére franco italienne 
DESCRIPTION: \n
URL:http://ademonice06.com/event/mobilisation-la-frontiere-franco-italienne/
END:VEVENT
END:VCALENDAR