BEGIN:VCALENDAR
VERSION:2.0
PRODID:-//ADN - ECPv4.8.2//NONSGML v1.0//EN
CALSCALE:GREGORIAN
METHOD:PUBLISH
X-WR-CALNAME:ADN
X-ORIGINAL-URL:http://ademonice06.com
X-WR-CALDESC:Évènements pour ADN
BEGIN:VEVENT
DTSTART;TZID=Europe/Paris:20190516T143000
DTEND;TZID=Europe/Paris:20190516T163000
DTSTAMP:20260421T082632
CREATED:20190511T071735Z
LAST-MODIFIED:20190511T071901Z
UID:10029-1558017000-1558024200@ademonice06.com
SUMMARY:Permanence du DAL06 à Nice
DESCRIPTION:\n\nCette permanence du Droit Au Logement 06 est assurée par Zohra\, Teresa et Rose dans les locaux d’Habitat et Citoyenneté au 28 rue Dabray à Nice (quartier Libération/Gambetta)\, tous les jeudis de 14h30 à 16h30\, sauf le dernier jeudi de chaque mois car nous sommes à l’association Utopie\, 8 avenue des églantines\, dans le quartier de l’Ariane.\nN’hésitez pas à nous appeler : 06.44.04.21.30 – 06.03.51.28.32\nFacebook : https://www.facebook.com/DALNice06/\n\n\n
URL:http://ademonice06.com/event/permanence-dal06-a-nice/
END:VEVENT
END:VCALENDAR