BEGIN:VCALENDAR
VERSION:2.0
PRODID:-//ADN - ECPv4.8.2//NONSGML v1.0//EN
CALSCALE:GREGORIAN
METHOD:PUBLISH
X-WR-CALNAME:ADN
X-ORIGINAL-URL:http://ademonice06.com
X-WR-CALDESC:Évènements pour ADN
BEGIN:VEVENT
DTSTART;TZID=Europe/Paris:20190517T180000
DTEND;TZID=Europe/Paris:20190517T190000
DTSTAMP:20260421T094910
CREATED:20190511T072811Z
LAST-MODIFIED:20190511T072811Z
UID:10037-1558116000-1558119600@ademonice06.com
SUMMARY:Nice : Stop aux violences LGBT-phobes !
DESCRIPTION:Toutes les infos ici. \n
URL:http://ademonice06.com/event/nice-stop-aux-violences-lgbt-phobes/
LOCATION:Place Garibaldi\, Place Garibaldi\, Nice\, 06300\, France
END:VEVENT
END:VCALENDAR