BEGIN:VCALENDAR
VERSION:2.0
PRODID:-//ADN - ECPv4.8.2//NONSGML v1.0//EN
CALSCALE:GREGORIAN
METHOD:PUBLISH
X-WR-CALNAME:ADN
X-ORIGINAL-URL:http://ademonice06.com
X-WR-CALDESC:Évènements pour ADN
BEGIN:VEVENT
DTSTART;TZID=Europe/Paris:20190520T080000
DTEND;TZID=Europe/Paris:20190520T170000
DTSTAMP:20260421T143712
CREATED:20190520T093601Z
LAST-MODIFIED:20190520T093601Z
UID:10110-1558339200-1558371600@ademonice06.com
SUMMARY:Dernier café signes de la saison - 7 juin
DESCRIPTION:C’est le dernier café signes de la saison\, pour se retrouver ou se découvrir\, tout le monde est bienvenu! On se souhaitera un bel été pour mieux se retrouver encore à la rentrée! \nVenez nous rejoindre\, au restaurant le Bistroy le vendredi 7 juin à 19h. 37 avenue Maréchal Joffre\, 06000 Nice. \nPour plus d’informations : cafesignes.nice@gmx.fr \nRéservation obligatoire.\nATTENTION\, places limitées! \n
URL:http://ademonice06.com/event/dernier-cafe-signes-de-saison-7-juin/
END:VEVENT
BEGIN:VEVENT
DTSTART;TZID=Europe/Paris:20190520T200000
DTEND;TZID=Europe/Paris:20190520T230000
DTSTAMP:20260421T143712
CREATED:20190512T073900Z
LAST-MODIFIED:20190512T074125Z
UID:10043-1558382400-1558393200@ademonice06.com
SUMMARY:Projection du film Marche ou Crève / festival L'autre Émoi
DESCRIPTION:Dans le cadre du festival L’Autre Émoi\nAU CINÉMA DE BEAULIEU – LUNDI 20 MAI – 20H\nMARCHE OU CRÈVE \nun film de Margaux Bonhomme \nUne Chronique d’une famille déchirée par le handicap d’un de ses membres. \nTarifs habituels. \nL’association le Grain de Sable et l’Entre-pont s’associent cette année avec le cinéma de Beaulieu et le TNN pour proposer au public une semaine d’échanges et de rencontres pour ‘dépasser les idées reçues’. Une proposition riche en événements : spectacles\, cinéma\, ateliers\, débats…. \nPlus d’informations sur le Festival L’AUTRE ÉMOI : http://entrepont.net/index.php/evenements-publics/1153-rencontres-l-autre-emoi \n
URL:http://ademonice06.com/event/projection-film-marche-creve-festival-lautre-emoi/
LOCATION:Cinéma de Beaulieu\, Avenue Albert 1er\, Beaulieu sur mer \, 06310
END:VEVENT
END:VCALENDAR