BEGIN:VCALENDAR
VERSION:2.0
PRODID:-//ADN - ECPv4.8.2//NONSGML v1.0//EN
CALSCALE:GREGORIAN
METHOD:PUBLISH
X-WR-CALNAME:ADN
X-ORIGINAL-URL:http://ademonice06.com
X-WR-CALDESC:Évènements pour ADN
BEGIN:VEVENT
DTSTART;TZID=Europe/Paris:20190521T080000
DTEND;TZID=Europe/Paris:20190521T170000
DTSTAMP:20260421T161832
CREATED:20190521T161741Z
LAST-MODIFIED:20190521T161741Z
UID:10112-1558425600-1558458000@ademonice06.com
SUMMARY:Conférence d'Axel Kahn : "Demain\, l'humain au milieu des robots"
DESCRIPTION: \n
URL:http://ademonice06.com/event/conference-daxel-kahn-demain-lhumain-milieu-robots/
END:VEVENT
END:VCALENDAR