BEGIN:VCALENDAR
VERSION:2.0
PRODID:-//ADN - ECPv4.8.2//NONSGML v1.0//EN
CALSCALE:GREGORIAN
METHOD:PUBLISH
X-WR-CALNAME:ADN
X-ORIGINAL-URL:http://ademonice06.com
X-WR-CALDESC:Évènements pour ADN
BEGIN:VEVENT
DTSTART;TZID=Europe/Paris:20190528T183000
DTEND;TZID=Europe/Paris:20190528T203000
DTSTAMP:20260422T052633
CREATED:20190523T111234Z
LAST-MODIFIED:20190523T114113Z
UID:10120-1559068200-1559075400@ademonice06.com
SUMMARY:Soutien aux argentines pour la légalisation de l'avortement
DESCRIPTION:Manifestons notre soutien à nos consœurs argentines dans leur combat pour la légalisation de l’avortement ! \nL’Argentine est un pays fédéral qui compte au moins 500 associations qui luttent pour la légalisation et qui sont coordonnées par un comité de militantes très actives. \nPour que la loi passe il faut l’acceptation des 2 chambres\, le Parlement et le Sénat et en 2018 la loi\, votée par le Parlement\, a été retoquée par le Sénat. \nUne nouvelle campagne pour re-présenter la loi démarre le 28 mai !!! \nLes députés et les sénateurs qui sont favorables à la loi subissent des pressions et des menaces de la part du lobby anti-choix très puissant et à majorité évangéliste\, financé en grande partie par les Etats-Unis\, renforcé par la politique de Trump\, et n’osent pas s’afficher publiquement !!! \nLes militants-es\, que nous avons rencontrées lors de la projection à Cannes du très beau film de Juan Solanas\, Que sea ley\, prennent d’énormes risques dans cette lutte de David contre Goliath ! Elles nous demandent\, à l’Etat français par l’intermédiaire de Marlène Schiappa\, et aux mouvements militants par l’intermédiaire du Planning\, de nous mobiliser pour les soutenir. \nNous devons leur apporter notre soutien le plus visible possible !!! \nALORS RETROUVONS-NOUS PLACE GARIBALDI \nLE 28 MAI A 18H30 \nPOUR UN RASSEMBLEMENT OU NOUS BRANDIRONS LE FOULARD VERT\, SYMBOLE DE LEUR MOBILISATION !!! (vous pouvez apporter un mouchoir ou une pièce de tissu vert\, triangulaire si possible). \nQUE SEA LEY ! \nÉducation sexuelle pour décider !!! \nContraception pour ne pas avorter !!! \nAvortement légal pour ne pas mourir !!! \nContact militantes Argentine : \njennyduran@catolicas.org.ar \n+54 9 11 6 6938581 \nhttps://www.facebook.com/CampAbortoLegal/ \nAux Etats-Unis\, c’est avec colère et inquiétude que nous avons appris que le Sénat de l’Alabama a adopté une loi contre l’avortement\, même en cas de viol ou d’inceste. Les promoteurs du texte n’ont pas caché leur intention d’amener la Cour suprême des États-Unis à revenir sur sa décision emblématique de 1973\, « Roe v. Wade »\, qui a reconnu le droit des femmes à avorter tant que le fœtus n’est pas viable. \nDepuis le début de l’année\, 28 des 50 Etats américains – pour la plupart des Etats du Sud\, très conservateurs – ont mis en place plus de 300 nouvelles règles afin de limiter l’accès à l’avortement. \nComme aux USA\, nous savons qu’en France un retour en arrière est toujours possible. Pour rappel\, la loi scélérate de 1920\, renforcée par les dispositifs pétainistes de 1939 et 1942\, faisait de l’avortement un crime d’Etat. \nRenvoyer les femmes à la clandestinité pour avorter\, c’est à nouveau les acculer à des avortements non médicalisés\, leurs complications et les décès – 47 000 femmes sont mortes dans le monde en 2018 des suites d’un avortement non médicalisé ! \nA la veille des élections européennes\, nous dénonçons la collusion entre les extrêmes droites politiques et les pouvoirs religieux\, leur acharnement féroce contre les droits fondamentaux des femmes afin de perpétuer la domination masculine. \nNous appelons à la solidarité avec toutes les femmes en lutte en Europe\, notamment les Polonaises\, et de par le monde. \n
URL:http://ademonice06.com/event/soutien-aux-argentines-legalisation-de-lavortement/
LOCATION:Place Garibaldi\, Place Garibaldi\, Nice\, 06300\, France
ORGANIZER;CN="Planning%20familial":MAILTO:mfpf06@gmail.com
END:VEVENT
END:VCALENDAR