BEGIN:VCALENDAR
VERSION:2.0
PRODID:-//ADN - ECPv4.8.2//NONSGML v1.0//EN
CALSCALE:GREGORIAN
METHOD:PUBLISH
X-WR-CALNAME:ADN
X-ORIGINAL-URL:http://ademonice06.com
X-WR-CALDESC:Évènements pour ADN
BEGIN:VEVENT
DTSTART;TZID=Europe/Paris:20190609T160000
DTEND;TZID=Europe/Paris:20190609T190000
DTSTAMP:20260423T021338
CREATED:20190522T063957Z
LAST-MODIFIED:20190522T063957Z
UID:10117-1560096000-1560106800@ademonice06.com
SUMMARY:Concert participatif pour les militant-es victimes de violence
DESCRIPTION:La chorale militante de la librairie des Mots du Monde organise un concert participatif en l’honneur des militant-es victimes des violences policières. \nIl aura lieu à la Zonmé le dimanche 9 juin à partir de 16h et vous pourrez chanter avec nous toutes les chansons que nous vous proposerons de notre répertoire militant. \nPlus d’informations à venir. \n
URL:http://ademonice06.com/event/concert-participatif-militant-es-victimes-de-violence/
LOCATION:La Zonmé\, 7 bis rue des Combattants en Afrique du Nord\, Nice\, PACA\, 06000\, France Métropolitaine
END:VEVENT
END:VCALENDAR