BEGIN:VCALENDAR
VERSION:2.0
PRODID:-//ADN - ECPv4.8.2//NONSGML v1.0//EN
CALSCALE:GREGORIAN
METHOD:PUBLISH
X-WR-CALNAME:ADN
X-ORIGINAL-URL:http://ademonice06.com
X-WR-CALDESC:Évènements pour ADN
BEGIN:VEVENT
DTSTART;TZID=Europe/Paris:20190614T183000
DTEND;TZID=Europe/Paris:20190616T180000
DTSTAMP:20260425T104001
CREATED:20190527T081814Z
LAST-MODIFIED:20190527T081814Z
UID:10135-1560537000-1560708000@ademonice06.com
SUMMARY:Eclairage Public #3 invite BEN
DESCRIPTION:ECLAIRAGE PUBLIC #3 invite BEN \n14/15/16 JUIN 2019 \nUn week-end entièrement gratuit pour découvrir la création sous toutes ses formes et ce site exceptionnel qu’est le 109 avec plus de 50 artistes qui vous feront rire\, rêver\, danser du matin jusqu’au cœur de la nuit.\n« La Vie est un film »\, la grande exposition de BEN et ses invités\, sera le point de départ de ces trois jours de fête. \nAU PROGRAMME : \n>> Vendredi 14 juin\, de 18h33 > 2h \nOUVERTURE de l’exposition « La vie est un film » par Ben et ses artistes invités dans la Grande Halle\nFANFARE Banda Nux\nCONCERTS de Nux Vomica\, Moussu T e lei Jovents\, Lo Còr de la Plana\nBOUM DES CINEPHILES par Il était un truc\nDJ SET avec Papet J et Afroman Radio\nCINEMA PERMANENT\, avec AUTOUR DE Le Cinéma de Beaulieu : RIDDIM#1 > Rencontre et Instantanés du Documentaire Dédié à la Musique\, en présence de réalisateurs \n>> Samedi 15 juin\, de 12h > 2h \nSPECTACLE FAMILIAL avec La Constellation des petits pois\,\nCie Reveïda\nSPECTACLE VOCAL à rebrousse poils avec Les 4 barbues de la\ncompagnie Une petite voix m’a dit …\nPARKOUR & DANSE VERTICALE avec Ligne de Vie d’ Antoine Le Menestrel\nÉclairage Public Invite DIME ON MUSIC :\nCONCERT Jok’Air\, La Chica et Felixita\, (scène extérieure) suivis de Les Gavas De La Ville\, Théo et DJ set avec Tofaus et Old Boy (scène du Frigo)\nDANSE CONTEMPORAINE avec At Home Compagnie Laurence Marthouret – /TranS/\nCONCERT de Johanna Piraino & François Ross\nCONCERT DE MUSIQUE CONTEMPORAINE par le CIRM\nTHEATRE D’OBJET par le Théâtre De La Massue\nDEMONSTRATIONS ET ATELIERS D’INITIATIONS avec Alice Freestyle\, Accrobarz\, Nissart Skate et Whole Street\nLIVE PAINTING avec OTOM\nPERFORMANCES : l’Université Côte d’Azur présente le Laboratoire de création Vers Abraxa sous la direction artistique d’Éric Oberdorff de la compagnie Humaine.\nLECTURES THEATRALES avec LE GRAIN DE SABLE\nATELIERS\, CONFERENCE ET ARCHITECTURE : New Beauties et Ma ville est mon école\nCINEMA PERMANENT\, avec AUTOUR DE Le Cinéma de Beaulieu : RIDDIM#1 > Rencontre et Instantanés du Documentaire Dédié à la Musique\nVISITE D’ATELIERS D’ARTISTES du 109 avec Botoxs\nPERFORMANCE DE DESSIN CROQUIMATON par LAZARINE\nLAZARINE / Armelle Trouxe propose aux visiteurs de se prêter à un jeu de portrait\, Le dessin est un support à la parole\, pour porter la voix des gens sur des sujets communs … \n>> Dimanche 16 juin – de 11h >18h \nSPECTACLE TRES JEUNE PUBLIC\, MAIS PAS QUE\, avec L’Opéra Minuscule de la Cie BE et UNE PETITE VOIX M’A DIT\nSOLO THEATRAL avec T’es toi d’ Eva Rami\nPERFORMANCE ET ATELIER DE DANSE CONTEMPORAINE avec la TCMA / Michaël Allibert\nDEMONSTRATIONS ET ATELIERS D’INITIATIONS avec Alice Freestyle\, Accrobarz\, Nissart Skate et WHOLE STREET\nLIVE PAINTING avec OTOM\nPERFORMANCE DE DESSIN CROQUIMATON par LAZARINE :\nLAZARINE / Armelle Trouxe propose aux visiteurs de se prêter à un jeu de portrait\, Le dessin est un support à la parole\, pour porter la voix des gens sur des sujets communs …\nRetrouvez aussi DES ATELIERS de création en famille (ou pas) : cinéma d’animation\, marionnettes et théâtre d’objets\, théâtre\, danse\, chanson… proposés par la Cie Studio Antipodes\, Le Hublot\, Il était un truc\, Théâtre de la Massue – Cie Ezequiel Garcia Romeu\, la Compagnie Laurence Marthouret – /TranS/ \nBUVETTE ET RESTAURATION SUR PLACE\nÉvénements gratuits\n+ 5€ de frais réservation pour les spectacles dans les limites des places disponibles\n+ Sur préinscription pour les ateliers de pratique artistique \n••• RESERVATIONS ••• : \n••• SAMEDI 15 JUIN 2019 : \nAtelier danse parents / enfants – de 11h à 12h\nPar la Cie Antipodes :\nwww.helloasso.com/associations/entre-pont/evenements/atelier-de-danse-parents-enfants-cie-antipodes \nLa Constellation des petits pois – 15h\nPar la Cie Reveïda :\nwww.helloasso.com/associations/entre-pont/evenements/la-constellation-des-petits-pois \nLes 4 barbues – 19h30\nPar la Cie Une petite voix m’a dit : www.helloasso.com/associations/entre-pont/evenements/les-4-barbues \n••• DIMANCHE 16 JUIN 2019 : \nAtelier de danse – de 10h à 11h\nPar la Cie Antipodes :\nwww.helloasso.com/associations/entre-pont/evenements/atelier-de-danse-cie-antipodes \nL’Opéra Minuscule – 11h\nPar les Cies Une petite voix m’a dit & Be : www.helloasso.com/associations/entre-pont/evenements/opera-minuscule \nAtelier théâtre enfants et ados (8 à 15 ans) – de 11 à 13h\nPar le Collectif Mains d’oeuvres\nwww.helloasso.com/associations/entre-pont/evenements/atelier-theatre-jeune-public-collectif-mains-d-uvres \nAtelier découverte du Théâtre d’ombre – de 11h à 13h\nPar Ezéquiel Garcia Romeu du Théâtre de la Massue :\nwww.helloasso.com/associations/entre-pont/evenements/atelier-decouverte-du-theatre-d-ombre \nAtelier chanson – de 11h à 15h\nPar Johanna Piraino de la Cie Diva- Le Hublot :\nwww.helloasso.com/associations/entre-pont/evenements/atelier-chanson \nAtelier danse – de 11h – 16h\nPar Evelyne Le Pollotec\, Cie ABEL et Cie /TranS/ :\nwww.helloasso.com/associations/entre-pont/evenements/atelier-danse \nAtelier Cinéma et Animation – de 11h à 17h\nPar la Cie Il était un truc :\nwww.helloasso.com/associations/entre-pont/evenements/atelier-cinema-et-animation-compagnie-il-etait-un-truc \nAtelier théâtre adultes (à partir de 16 ans) – de 14h à 16h\nPar le Collectif Mains d’œuvres :\nwww.helloasso.com/associations/entre-pont/evenements/atelier-theatre-adultes-collectif-mains-d-oeuvres \nAtelier découverte du Théâtre d’ombre – de 14h – 16h\nPar Ezéquiel Garcia Romeu du Théâtre de la Massue :\nwww.helloasso.com/associations/entre-pont/evenements/atelier-decouverte-du-theatre-d-ombre-1 \nT’es toi ! – 16h30\nPar Eva Rami :\nwww.helloasso.com/associations/entre-pont/evenements/t-es-toi \nSite : www.le109.nice.fr\nFacebook: Le 109\nInstagram : eclairagepublic#3 \n
URL:http://ademonice06.com/event/eclairage-public-3-invite-ben/
LOCATION:Le 109\, 50 Boulevard Jean-Baptiste Vérany\, \, Nice\, 06300
END:VEVENT
BEGIN:VEVENT
DTSTART;TZID=Europe/Paris:20190614T200000
DTEND;TZID=Europe/Paris:20190614T220000
DTSTAMP:20260425T104001
CREATED:20190607T135742Z
LAST-MODIFIED:20190607T140646Z
UID:10161-1560542400-1560549600@ademonice06.com
SUMMARY:Conférence-débat sur une femme d’exception : Olympe De Gouges
DESCRIPTION: \n
URL:http://ademonice06.com/event/conference-debat-femme-dexception-olympe-de-gouges/
LOCATION:Centre Lgbt Côte d’Azur\, 123 rue de roquebilliere\, Nice\, 06300
END:VEVENT
END:VCALENDAR