BEGIN:VCALENDAR
VERSION:2.0
PRODID:-//ADN - ECPv4.8.2//NONSGML v1.0//EN
CALSCALE:GREGORIAN
METHOD:PUBLISH
X-WR-CALNAME:ADN
X-ORIGINAL-URL:http://ademonice06.com
X-WR-CALDESC:Évènements pour ADN
BEGIN:VEVENT
DTSTART;TZID=Europe/Paris:20190620T180000
DTEND;TZID=Europe/Paris:20190620T190000
DTSTAMP:20260425T213432
CREATED:20190620T093306Z
LAST-MODIFIED:20190620T093554Z
UID:10214-1561053600-1561057200@ademonice06.com
SUMMARY:20 JUIN : Amnesty International célèbre la journée des Réfugies .
DESCRIPTION:\n\n\nAmnesty International célèbre la journée des Refugiés\n\n· Organisé par Amnesty International Alpes-Maritimes\n\n\n\n\n
URL:http://ademonice06.com/event/20-juin-amnesty-international-celebre-journee-refugies/
LOCATION:Frontiere Pont Ludovic\, Frontiere du bord de mer\, Vintimille
END:VEVENT
BEGIN:VEVENT
DTSTART;TZID=Europe/Paris:20190620T183000
DTEND;TZID=Europe/Paris:20190620T210000
DTSTAMP:20260425T213432
CREATED:20190610T184511Z
LAST-MODIFIED:20190610T184511Z
UID:10168-1561055400-1561064400@ademonice06.com
SUMMARY:Rencontres de la pensée critique : "Ils ont tué Rossel"
DESCRIPTION: \n
URL:http://ademonice06.com/event/rencontres-de-pensee-critique-ont-tue-rossel/
LOCATION:Amphithéâtre Garibaldi Espace Associations\, 12 place Garibaldi Nice (Arrêt Tram - Parking théâtre)
END:VEVENT
END:VCALENDAR