BEGIN:VCALENDAR
VERSION:2.0
PRODID:-//ADN - ECPv4.8.2//NONSGML v1.0//EN
CALSCALE:GREGORIAN
METHOD:PUBLISH
X-WR-CALNAME:ADN
X-ORIGINAL-URL:http://ademonice06.com
X-WR-CALDESC:Évènements pour ADN
BEGIN:VEVENT
DTSTART;TZID=Europe/Paris:20190623T160000
DTEND;TZID=Europe/Paris:20190623T180000
DTSTAMP:20260426T030523
CREATED:20190620T094221Z
LAST-MODIFIED:20190620T094221Z
UID:10218-1561305600-1561312800@ademonice06.com
SUMMARY:Marche citoyenne - Journée mondiale des réfugié.e.s
DESCRIPTION:Journée mondiale des réfugié.e.s 2019 \nL’Europe forteresse laisse les exilé.e.s mourir en mer. Celles et ceux qui parviennent jusqu’à nos rives\, nos villages et nos villes se heurtent aux murs\, aux barbelés\, aux camps\, et à un parcours administratif jalonné d’entraves et de droits bafoués.\n\nRappelons avec force nos valeurs de solidarité et de fraternité. \nNous souhaitons marquer la journée mondiale des réfugié.e.s 2019 par une grande marche à travers la ville de Nice\, marche de dénonciation des insupportables conditions faites aux exilé.e.s\, marche d’hommage pour toutes celles et ceux qui sont morts sur leur route d’exil\, notamment en Méditerranée\, marche pour la libre circulation des personnes et l’ouverture des frontières. \nDe Rauba Capeu à la place Garibaldi en passant par le Quai des Etats-Unis\, la place Massena et le Bd Jean Jaurès\, nous marcherons ensemble pour que notre humanité ne soit pas un vain mot : \nRendez vous pour la Journée mondiale des réfugié.e.s 2019 pour une Marche citoyenne dimanche 23 juin à 16h au départ de Rauba Capeu à Nice \nPremiers signataires : Les Amis de la démocratie\, Attac 06\, ATD Quart Monde Nice\, le centre LGBT Côte d’Azur\, EELV 06\, Ensemble! 06\, la LDH Nice\, le Mouvement pour la paix 06\, le MRAP 06\, Nice au cœur\, le PCF 06\, le PS 06\, Pax Christi Nice\, RESF 06\, Roya citoyenne\, SOlidarité MIgrant-e-s COllectif 06\, le Syndicat des Avocats de France\, Tous citoyens ! et Vallées solidaires. \n
URL:http://ademonice06.com/event/marche-citoyenne-journee-mondiale-refugie-e-s/
LOCATION:Quai Rauba Capeu\, Quai Rauba Capeu\, Nice\, 06300
END:VEVENT
BEGIN:VEVENT
DTSTART;TZID=Europe/Paris:20190623T170000
DTEND;TZID=Europe/Paris:20190623T190000
DTSTAMP:20260426T030523
CREATED:20190505T092234Z
LAST-MODIFIED:20190505T092234Z
UID:9990-1561309200-1561316400@ademonice06.com
SUMMARY:Stay Human - Manifestation en faveur des migrants à Vintimille
DESCRIPTION:\nSi terrà 23 giugno 2019\, a Ventimiglia\, una pacifica Manifestazione di Solidarietà ai Migranti di Ventimiglia denominata \n« Stay Human – Manifestazione in favore dei Migranti a Ventimiglia ». \nPerché stiamo ancora aspettando la risposta della Regione Liguria e del Sindaco di Ventimiglia\, per Samba. \nQuesta iniziativa è nata per via dell’ordinanza del Sindaco di Ventimiglia Enrico Ioculano che vietava di dare cibo e bevande ai Migranti\, ritirata però dopo la nostra\, e le altre numerose civili richieste di cancellarla. In effetti\, ad aprile 2017 è stata revocata per ragioni umanitarie e quindi\, questo evento si è trasformato in una Cena solidale\, di tutti i popoli in Liguria. Certamente un evento come questo richiede tanta preparazione\, contatti con tutte le comunità straniere e tanto denaro che al momento non abbiamo ancora raccolto a sufficienza\, il motivo per cui più di una volta questo evento è stato rinviato. Speriamo di farcela entro il 9 settembre! \nSono gradite le adesioni dei Partiti politici\, dei Sindacati\, delle Associazioni\, delle Cooperative e dei Comitati a difesa dei Diritti Umani di tutta la Liguria e d’Italia.\nRestiamo umani.. Stay human.. \nAderisce alla nostra Manifestazione:\n– RIFONDAZIONE COMUNISTA a livello REGIONALE;\n– Rifondazione Comunista Biellese.. \nL’evento è in continuo aggiornamento.. \n(Comitato per gli Immigrati e contro ogni forma di discriminazione) \nQuesta Manifestazione è stata approvata dalla Questura di Imperia. \n\n
URL:http://ademonice06.com/event/stay-human-manifestation-faveur-migrants-a-vintimille/
LOCATION:Via Tenda\, 30\, 18039 Ventimiglia IM\, Italia
END:VEVENT
END:VCALENDAR